BEGIN:VCALENDAR
VERSION:2.0
PRODID:-//wp-events-plugin.com//7.2.3.1//EN
TZID:America/Los_Angeles
X-WR-TIMEZONE:America/Los_Angeles
BEGIN:VEVENT
UID:76@choc.org
DTSTART;TZID=America/Los_Angeles:20260507T123000
DTEND;TZID=America/Los_Angeles:20260507T133000
DTSTAMP:20260317T000550Z
URL:https://choc.org/events/virtual-pediatric-lecture-series-heart-institu
 te/
SUMMARY:Virtual Pediatric Lecture Series: Heart Institute
DESCRIPTION:Your pediatric cardiac patients will eventually need adult care
 —know how to transition them confidently. Register for this free CHOC we
 binar and earn 1.0 CME credit.
ATTACH;FMTTYPE=image/jpeg:https://choc.org/wp-content/uploads/2026/03/teen
 -confiding-with-doctor.webp
CATEGORIES:Continuing Medical Education
LOCATION:https://chocchildrens.zoom.us/webinar/register/WN_23EitqlsT3yo6SZj
 qYE4MA
END:VEVENT
BEGIN:VTIMEZONE
TZID:America/Los_Angeles
X-LIC-LOCATION:America/Los_Angeles
BEGIN:DAYLIGHT
DTSTART:20260308T030000
TZOFFSETFROM:-0800
TZOFFSETTO:-0700
TZNAME:PDT
END:DAYLIGHT
END:VTIMEZONE
END:VCALENDAR