BEGIN:VCALENDAR
VERSION:2.0
PRODID:-//wp-events-plugin.com//7.2.3.1//EN
TZID:America/Los_Angeles
X-WR-TIMEZONE:America/Los_Angeles
BEGIN:VEVENT
UID:69@choc.org
DTSTART;TZID=America/Los_Angeles:20260418T090000
DTEND;TZID=America/Los_Angeles:20260418T130000
DTSTAMP:20260316T225634Z
URL:https://choc.org/events/super-kids-fest-a-free-community-event-for-kid
 s-families/
SUMMARY:Super Kids Fest: A Free Community Event for Kids & Families
DESCRIPTION:Don’t miss Super Kids Fest! Enjoy free family fun with track 
 events\, mini medical school\, yoga\, food demos\, raffles and lunch in Sa
 nta Ana.
ATTACH;FMTTYPE=image/jpeg:https://choc.org/wp-content/uploads/2026/02/chil
 dren-playing-happily-in-lush-green-park.webp
CATEGORIES:Community
LOCATION:Valley High School\, 1801 S Greenville St\, Santa Ana\, CA\, 92704
 \, United States
X-APPLE-STRUCTURED-LOCATION;VALUE=URI;X-ADDRESS=1801 S Greenville St\, Sant
 a Ana\, CA\, 92704\, United States;X-APPLE-RADIUS=100;X-TITLE=Valley High 
 School:geo:0,0
END:VEVENT
BEGIN:VTIMEZONE
TZID:America/Los_Angeles
X-LIC-LOCATION:America/Los_Angeles
BEGIN:DAYLIGHT
DTSTART:20260308T030000
TZOFFSETFROM:-0800
TZOFFSETTO:-0700
TZNAME:PDT
END:DAYLIGHT
END:VTIMEZONE
END:VCALENDAR