BEGIN:VCALENDAR
VERSION:2.0
PRODID:-//wp-events-plugin.com//7.2.3.1//EN
TZID:America/Los_Angeles
X-WR-TIMEZONE:America/Los_Angeles
BEGIN:VEVENT
UID:11@choc.org
DTSTART;TZID=America/Los_Angeles;VALUE=DATE:20250729
DTEND;TZID=America/Los_Angeles;VALUE=DATE:20250802
DTSTAMP:20250502T015901Z
URL:https://choc.org/events/neoheart-cardiovascular-hemodynamic-management
 -of-the-neonate/
SUMMARY:NeoHeart: Cardiovascular &amp\; Hemodynamic Management of the Neona
 te
DESCRIPTION:Join NeoHeart July 29 - Aug 1\, 2025\, an event that unites int
 ernational experts in neonatology\, pediatric cardiology\, CT surgery\, an
 d more to discuss innovations\, treatments\, and best practices for the ca
 re of neonates with congenital heart disease and hemodynamic instability.
ATTACH;FMTTYPE=image/jpeg:https://choc.org/wp-content/uploads/2025/01/neoh
 eart-2025-1.webp
CATEGORIES:Clinical,Community
LOCATION:https://web.cvent.com/event/14999662-816a-4d8b-8798-6c07e1919a7f/s
 ummary
END:VEVENT
BEGIN:VTIMEZONE
TZID:America/Los_Angeles
X-LIC-LOCATION:America/Los_Angeles
BEGIN:DAYLIGHT
DTSTART:20250309T030000
TZOFFSETFROM:-0800
TZOFFSETTO:-0700
TZNAME:PDT
END:DAYLIGHT
END:VTIMEZONE
END:VCALENDAR