BEGIN:VCALENDAR
VERSION:2.0
PRODID:-//wp-events-plugin.com//7.2.3.1//EN
TZID:America/Los_Angeles
X-WR-TIMEZONE:America/Los_Angeles
BEGIN:VEVENT
UID:26@choc.org
DTSTART;TZID=America/Los_Angeles;VALUE=DATE:20260429
DTEND;TZID=America/Los_Angeles;VALUE=DATE:20260501
DTSTAMP:20251208T194640Z
URL:https://choc.org/events/international-pediatric-and-lifespan-data-scie
 nce-conference/
SUMMARY:Pediatric and Lifespan Data Science Conference
DESCRIPTION:Join global experts at the International Pediatric Data Science
  Roundtable on April 29-30\, 2026 to advance data science in child healthc
 are.
ATTACH;FMTTYPE=image/jpeg:https://choc.org/wp-content/uploads/2025/06/Inte
 rnational_Pediatric_Research_Data_Science_Symposia.webp
CATEGORIES:Community,Research
LOCATION:Hyatt Regency Irvine\, 17900 Jamboree Rd. \, Irvine\, CA\, 92614\,
  United States
X-APPLE-STRUCTURED-LOCATION;VALUE=URI;X-ADDRESS=17900 Jamboree Rd. \, Irvin
 e\, CA\, 92614\, United States;X-APPLE-RADIUS=100;X-TITLE=Hyatt Regency Ir
 vine:geo:0,0
END:VEVENT
BEGIN:VTIMEZONE
TZID:America/Los_Angeles
X-LIC-LOCATION:America/Los_Angeles
BEGIN:DAYLIGHT
DTSTART:20260308T030000
TZOFFSETFROM:-0800
TZOFFSETTO:-0700
TZNAME:PDT
END:DAYLIGHT
END:VTIMEZONE
END:VCALENDAR